BEGIN:VCALENDAR
VERSION:2.0
PRODID:-//Squarespace Inc/Squarespace 6//v6//EN
BEGIN:VEVENT
UID:5ffa625a401066645ebab08d@squarespace.com
DTSTAMP:20210130T215025Z
DTSTART:20211015T093000Z
DTEND:20211023T093000Z
SUMMARY:Into the Woods
GEO:-28.103452;153.429816
LOCATION:National Academy of Performing Arts (NAPA)\, 3 Stevenson Ct\, Burl
 eigh Heads\, QLD\, 4220\, Australia
END:VEVENT
END:VCALENDAR
