BEGIN:VCALENDAR
VERSION:2.0
PRODID:-//Squarespace Inc/Squarespace 6//v6//EN
BEGIN:VEVENT
UID:5f5175fc0443780252208d7d@squarespace.com
DTSTAMP:20210130T212901Z
DTSTART:20210123T090000Z
DTEND:20210206T090000Z
SUMMARY:Downtown: The Mod Musical
GEO:-28.103378;153.429838
LOCATION:National Academy of Performing Arts (NAPA)\, 3 Stevenson Court\, B
 urleigh Heads\, QLD\, 4220\, Australia
END:VEVENT
END:VCALENDAR
