BEGIN:VCALENDAR
VERSION:2.0
PRODID:-//Squarespace Inc/Squarespace 6//v6//EN
BEGIN:VEVENT
UID:5fd8294a08b8232a2ddd37df@squarespace.com
DTSTAMP:20210130T213103Z
DTSTART:20211203T093000Z
DTEND:20211204T113000Z
SUMMARY:2021 NAPA Dance Concert
GEO:-28.103452;153.429816
LOCATION:National Academy of Performing Arts (NAPA)\, 3 Stevenson Ct\, Burl
 eigh Heads\, QLD\, 4220\, Australia
END:VEVENT
END:VCALENDAR
