BEGIN:VCALENDAR
VERSION:2.0
PRODID:-//Squarespace Inc/Squarespace 6//v6//EN
BEGIN:VEVENT
UID:5f518cb1b5ba5d61a73b5df4@squarespace.com
DTSTAMP:20201012T062806Z
DTSTART:20201106T093000Z
DTEND:20201107T093000Z
SUMMARY:Yes\, Headmaster
END:VEVENT
END:VCALENDAR
