BEGIN:VCALENDAR
VERSION:2.0
PRODID:-//Squarespace Inc/Squarespace 6//v6//EN
BEGIN:VEVENT
UID:5f517fc3c1f7fa7de2758f62@squarespace.com
DTSTAMP:20201004T214229Z
DTSTART:20201015T090000Z
DTEND:20201017T090000Z
SUMMARY:West Side Story
GEO:-28.103378;153.429838
LOCATION:National Academy of Performing Arts (NAPA)\, 3 Stevenson Court\, B
 urleigh Heads\, QLD\, 4220\, Australia
END:VEVENT
END:VCALENDAR
