BEGIN:VCALENDAR
VERSION:2.0
PRODID:-//Squarespace Inc/Squarespace 6//v6//EN
BEGIN:VEVENT
UID:5f518fb7e09e4777ff6614b9@squarespace.com
DTSTAMP:20201116T103429Z
DTSTART:20201127T093000Z
DTEND:20201128T093000Z
SUMMARY:The Chosen
GEO:-28.103378;153.429838
LOCATION:National Academy of Performing Arts (NAPA)\, 3 Stevenson Court\, B
 urleigh Heads\, QLD\, 4220\, Australia
END:VEVENT
END:VCALENDAR
