BEGIN:VCALENDAR
VERSION:2.0
PRODID:-//Squarespace Inc/Squarespace 6//v6//EN
BEGIN:VEVENT
UID:5f5196c74adc463c0259e960@squarespace.com
DTSTAMP:20201023T045136Z
DTSTART:20201023T093000Z
DTEND:20201024T093000Z
SUMMARY:Performance Team Concert
GEO:-28.103378;153.429838
LOCATION:National Academy of Performing Arts\, 3 Stevenson Court\, Burleigh 
 Heads\, QLD\, 4220\, Australia
END:VEVENT
END:VCALENDAR
