BEGIN:VCALENDAR
VERSION:2.0
PRODID:-//Squarespace Inc/Squarespace 6//v6//EN
BEGIN:VEVENT
UID:5f51999b044378025225679a@squarespace.com
DTSTAMP:20201124T084745Z
DTSTART:20201204T093000Z
DTEND:20201205T093000Z
SUMMARY:Narnia - Dance Concert
GEO:-28.103378;153.429838
LOCATION:National Academy of Performing Arts\, 3 Stevenson Court\, Burleigh 
 Heads\, QLD\, 4220\, Australia
END:VEVENT
END:VCALENDAR
