BEGIN:VCALENDAR
VERSION:2.0
PRODID:-//Squarespace Inc/Squarespace 6//v6//EN
BEGIN:VEVENT
UID:5f701dc69497f96ef9043af2@squarespace.com
DTSTAMP:20201116T103335Z
DTSTART:20201113T093000Z
DTEND:20201121T093000Z
SUMMARY:Moana
GEO:-28.103378;153.429838
LOCATION:National Academy of Performing Arts\, 3 Stevenson Court\, Burleigh 
 Heads\, Australia
END:VEVENT
END:VCALENDAR
