BEGIN:VCALENDAR
VERSION:2.0
PRODID:-//Squarespace Inc/Squarespace 6//v6//EN
BEGIN:VEVENT
UID:5f5198fa0443780252255623@squarespace.com
DTSTAMP:20201124T084615Z
DTSTART:20201129T000000Z
DTEND:20201129T060000Z
SUMMARY:Mini Concert
GEO:-28.103378;153.429838
LOCATION:National Academy of Performing Arts (NAPA)\, 3 Stevenson Court\, B
 urleigh Heads\, QLD\, 4220\, Australia
END:VEVENT
END:VCALENDAR
