BEGIN:VCALENDAR
VERSION:2.0
PRODID:-//Squarespace Inc/Squarespace 6//v6//EN
BEGIN:VEVENT
UID:5ffbd4b42b262f3dd38005ef@squarespace.com
DTSTAMP:20210130T214852Z
DTSTART:20211112T093000Z
DTEND:20211120T093000Z
SUMMARY:The Lion King Jr
GEO:-28.103452;153.429816
LOCATION:National Academy of Performing Arts (NAPA)\, 3 Stevenson Ct\, Burl
 eigh Heads\, QLD\, 4220\, Australia
END:VEVENT
END:VCALENDAR
