BEGIN:VCALENDAR
VERSION:2.0
PRODID:-//Squarespace Inc/Squarespace 6//v6//EN
BEGIN:VEVENT
UID:5f5185ab42439b42672b0d10@squarespace.com
DTSTAMP:20200904T002125Z
DTSTART:20200918T083000Z
DTEND:20200918T120000Z
SUMMARY:Industry Open Mic Night
GEO:-28.103378;153.429838
LOCATION:National Academy of Performing Arts (NAPA)\, 3 Stevenson Court\, B
 urleigh Heads\, QLD\, 4220\, Australia
END:VEVENT
END:VCALENDAR
