BEGIN:VCALENDAR
VERSION:2.0
PRODID:-//Squarespace Inc/Squarespace 6//v6//EN
BEGIN:VEVENT
UID:5f517345c4bb17744fd392a3@squarespace.com
DTSTAMP:20200904T033531Z
DTSTART:20200911T100000Z
DTEND:20200912T120000Z
SUMMARY:Hoods
GEO:-28.103378;153.429838
LOCATION:National Academy of Performing Arts (NAPA)\, 3 Stevenson Court\, B
 urleigh Heads\, QLD\, 4220\, Australia
END:VEVENT
END:VCALENDAR
