BEGIN:VCALENDAR
VERSION:2.0
PRODID:-//Squarespace Inc/Squarespace 6//v6//EN
BEGIN:VEVENT
UID:6015c31d98eb617ad7ac0fa3@squarespace.com
DTSTAMP:20210130T203930Z
DTSTART:20210529T210000Z
DTEND:20210530T110000Z
SUMMARY:Performance Team - Get the Beat Gold Coast
GEO:-28.103452;153.429816
LOCATION:National Academy of Performing Arts (NAPA)\, 3 Stevenson Ct\, Burl
 eigh Heads\, QLD\, 4220\, Australia
END:VEVENT
END:VCALENDAR
