BEGIN:VCALENDAR
VERSION:2.0
PRODID:-//Squarespace Inc/Squarespace 6//v6//EN
BEGIN:VEVENT
UID:6015c402264e010802265832@squarespace.com
DTSTAMP:20210130T204218Z
DTSTART:20210926T210000Z
DTEND:20211003T110000Z
SUMMARY:Performance Team - Get the Beat FINALS - Caloundra
GEO:-28.103452;153.429816
LOCATION:National Academy of Performing Arts (NAPA)\, 3 Stevenson Ct\, Burl
 eigh Heads\, QLD\, 4220\, Australia
END:VEVENT
END:VCALENDAR
