BEGIN:VCALENDAR
VERSION:2.0
PRODID:-//Squarespace Inc/Squarespace 6//v6//EN
BEGIN:VEVENT
UID:5ffbd87f5b771d702de8c0c2@squarespace.com
DTSTAMP:20210111T045129Z
DTSTART:20210806T210000Z
DTEND:20210808T110000Z
SUMMARY:Performance Team - Gold Coast Eisteddfod\, Groups
GEO:-28.103452;153.429816
LOCATION:National Academy of Performing Arts (NAPA)\, 3 Stevenson Ct\, Burl
 eigh Heads\, QLD\, 4220\, Australia
END:VEVENT
END:VCALENDAR
