BEGIN:VCALENDAR
VERSION:2.0
PRODID:-//Squarespace Inc/Squarespace 6//v6//EN
BEGIN:VEVENT
UID:5ffbd92777693f06a3f51e00@squarespace.com
DTSTAMP:20210111T045116Z
DTSTART:20210813T210000Z
DTEND:20210815T110000Z
SUMMARY:Performance Team - Gold Coast Eisteddfod\, Groups
GEO:-28.103452;153.429816
LOCATION:National Academy of Performing Arts (NAPA)\, 3 Stevenson Ct\, Burl
 eigh Heads\, QLD\, 4220\, Australia
END:VEVENT
END:VCALENDAR
