BEGIN:VCALENDAR
VERSION:2.0
PRODID:-//Squarespace Inc/Squarespace 6//v6//EN
BEGIN:VEVENT
UID:5f519a6b0ecb502de9e213b1@squarespace.com
DTSTAMP:20201116T103157Z
DTSTART:20201206T080000Z
DTEND:20201206T100000Z
SUMMARY:Film + TV Screening
GEO:-28.103378;153.429838
LOCATION:National Academy of Performing Arts\, 3 Stevenson Court\, Burleigh 
 Heads\, QLD\, 4220\, Australia
END:VEVENT
END:VCALENDAR
