BEGIN:VCALENDAR
VERSION:2.0
PRODID:-//Squarespace Inc/Squarespace 6//v6//EN
BEGIN:VEVENT
UID:5f51a2c90ecb502de9e33247@squarespace.com
DTSTAMP:20201116T010459Z
DTSTART:20201213T083000Z
DTEND:20201213T103000Z
SUMMARY:Awards Under the Stars
END:VEVENT
END:VCALENDAR
