BEGIN:VCALENDAR
VERSION:2.0
PRODID:-//Squarespace Inc/Squarespace 6//v6//EN
BEGIN:VEVENT
UID:5f519110c1f7fa7de277e464@squarespace.com
DTSTAMP:20201116T103246Z
DTSTART:20201211T093000Z
DTEND:20201212T093000Z
SUMMARY:The Addams Family
GEO:-28.103378;153.429838
LOCATION:National Academy of Performing Arts\, 3 Stevenson Court\, Burleigh 
 Heads\, QLD\, 4220\, Australia
END:VEVENT
END:VCALENDAR
