BEGIN:VCALENDAR
VERSION:2.0
PRODID:-//Squarespace Inc/Squarespace 6//v6//EN
BEGIN:VEVENT
UID:5fec391da20a165b2f4b856e@squarespace.com
DTSTAMP:20210124T033500Z
DTSTART:20210125T054500Z
DTEND:20210125T103000Z
SUMMARY:2021 Performance Team Auditions
GEO:-28.103452;153.429816
LOCATION:National Academy of Performing Arts (NAPA)\, 3 Stevenson Ct\, Burl
 eigh Heads\, QLD\, 4220\, Australia
END:VEVENT
END:VCALENDAR
