BEGIN:VCALENDAR
VERSION:2.0
PRODID:-//Squarespace Inc/Squarespace 6//v6//EN
BEGIN:VEVENT
UID:5fd82ff8bf84161920fa6b11@squarespace.com
DTSTAMP:20201215T034025Z
DTSTART:20211003T140000Z
DTEND:20211003T140000Z
SUMMARY:PUBLIC HOLIDAY - possible extra rehearsals\, no regular classes
GEO:-28.103452;153.429816
LOCATION:National Academy of Performing Arts (NAPA)\, 3 Stevenson Ct\, Burl
 eigh Heads\, QLD\, 4220\, Australia
END:VEVENT
END:VCALENDAR
