BEGIN:VCALENDAR
VERSION:2.0
PRODID:-//Squarespace Inc/Squarespace 6//v6//EN
BEGIN:VEVENT
UID:5fd82eb9eaa8e77ae8e4a302@squarespace.com
DTSTAMP:20201215T033533Z
DTSTART:20210127T140000Z
DTEND:20210127T140000Z
SUMMARY:NAPA College Boat Day
GEO:-28.103452;153.429816
LOCATION:National Academy of Performing Arts (NAPA)\, 3 Stevenson Ct\, Burl
 eigh Heads\, QLD\, 4220\, Australia
END:VEVENT
END:VCALENDAR
