BEGIN:VCALENDAR
VERSION:2.0
PRODID:-//Squarespace Inc/Squarespace 6//v6//EN
BEGIN:VEVENT
UID:5fd82e1a77d7f03dcdae6aa5@squarespace.com
DTSTAMP:20201215T033405Z
DTSTART:20210127T000000Z
DTEND:20210127T050000Z
SUMMARY:NAPA College - 1st Years' Orientation Day
GEO:-28.103452;153.429816
LOCATION:National Academy of Performing Arts (NAPA)\, 3 Stevenson Ct\, Burl
 eigh Heads\, QLD\, 4220\, Australia
END:VEVENT
END:VCALENDAR
