BEGIN:VCALENDAR
VERSION:2.0
PRODID:-//Squarespace Inc/Squarespace 6//v6//EN
BEGIN:VEVENT
UID:5fd829e850dc481b7896c614@squarespace.com
DTSTAMP:20201215T032314Z
DTSTART:20211205T083000Z
DTEND:20211205T113000Z
SUMMARY:2021 Awards Under the Stars
GEO:-28.103452;153.429816
LOCATION:National Academy of Performing Arts (NAPA)\, 3 Stevenson Ct\, Burl
 eigh Heads\, QLD\, 4220\, Australia
END:VEVENT
END:VCALENDAR
